View In:
ArcGIS JavaScript
ArcGIS Online Map Viewer
ArcGIS Earth
ArcMap
View Footprint In:
ArcGIS Online Map Viewer
Service Description: Brooks/Brooks_Ortho_2024
Name: Brooks/Brooks_Ortho_2024
Description:
Single Fused Map Cache: false
Extent:
XMin: 433674
YMin: 5597505
XMax: 441099
YMax: 5604930
Spatial Reference: 26912
(26912)
Initial Extent:
XMin: 433674
YMin: 5597505
XMax: 441099
YMax: 5604930
Spatial Reference: 26912
(26912)
Full Extent:
XMin: 433674
YMin: 5597505
XMax: 441099
YMax: 5604930
Spatial Reference: 26912
(26912)
Pixel Size X: 0.02
Pixel Size Y: 0.02
Band Count: 3
Pixel Type: U8
RasterFunction Infos: {"rasterFunctionInfos": [{
"name": "None",
"description": "",
"help": ""
}]}
Mensuration Capabilities: Basic
Has Histograms: true
Has Colormap: false
Has Multi Dimensions : false
Rendering Rule:
Min Scale: 0
Max Scale: 0
Copyright Text:
Service Data Type: esriImageServiceDataTypeProcessed
Min Values: 0, 0, 0
Max Values: 255, 255, 255
Mean Values: 172.34138389083, 161.53073300326, 135.6536650163
Standard Deviation Values: 58.88960432755, 66.115574731897, 83.979920595995
Object ID Field:
Fields:
None
Default Mosaic Method: Center
Allowed Mosaic Methods:
SortField:
SortValue: null
Mosaic Operator: First
Default Compression Quality: 85
Default Resampling Method: Bilinear
Max Record Count: null
Max Image Height: 4100
Max Image Width: 15000
Max Download Image Count: null
Max Mosaic Image Count: null
Allow Raster Function: true
Allow Compute TiePoints: false
Supports Statistics: false
Supports Advanced Queries: false
Use StandardizedQueries: true
Raster Type Infos:
Name: Raster Dataset
Description: Supports all ArcGIS Raster Datasets
Help:
Has Raster Attribute Table: false
Edit Fields Info: null
Ownership Based AccessControl For Rasters: null
Child Resources:
Info
Histograms
Key Properties
Legend
MultiDimensionalInfo
rasterFunctionInfos
Supported Operations:
Export Image
Identify
Measure
Compute Histograms
Compute Statistics Histograms
Get Samples
Compute Class Statistics
Query Boundary
Compute Pixel Location