{
 "currentVersion": 10.71,
 "serviceDescription": "FortMacleod/Fort_Macleod_Ortho_2025",
 "name": "FortMacleod/Fort_Macleod_Ortho_2025",
 "description": "",
 "extent": {
  "xmin": 323655.405,
  "ymin": 5506992.227000001,
  "xmax": 330335.645,
  "ymax": 5513642.157000001,
  "spatialReference": {
   "wkid": 26912,
   "latestWkid": 26912
  }
 },
 "initialExtent": {
  "xmin": 323655.405,
  "ymin": 5506992.227000001,
  "xmax": 330335.645,
  "ymax": 5513642.157000001,
  "spatialReference": {
   "wkid": 26912,
   "latestWkid": 26912
  }
 },
 "fullExtent": {
  "xmin": 323655.405,
  "ymin": 5506992.227000001,
  "xmax": 330335.645,
  "ymax": 5513642.157000001,
  "spatialReference": {
   "wkid": 26912,
   "latestWkid": 26912
  }
 },
 "pixelSizeX": 0.0699999999999999,
 "pixelSizeY": 0.06999999999999686,
 "bandCount": 5,
 "pixelType": "U8",
 "minPixelSize": 0,
 "maxPixelSize": 0,
 "copyrightText": "",
 "serviceDataType": "esriImageServiceDataTypeGeneric",
 "minValues": [
  40,
  45,
  36,
  0,
  255
 ],
 "maxValues": [
  244,
  241,
  251,
  235,
  255
 ],
 "meanValues": [
  137.95149851292598,
  121.16495081217093,
  89.1496225120106,
  166.59677419354858,
  255
 ],
 "stdvValues": [
  19.20082381700321,
  18.212132832458714,
  17.54025436512032,
  19.7012914910196,
  0
 ],
 "objectIdField": "",
 "fields": [],
 "capabilities": "Mensuration,Image,Metadata",
 "defaultMosaicMethod": "Center",
 "allowedMosaicMethods": "",
 "sortField": "",
 "sortValue": null,
 "mosaicOperator": "First",
 "defaultCompressionQuality": 75,
 "defaultResamplingMethod": "Bilinear",
 "maxImageHeight": 4100,
 "maxImageWidth": 15000,
 "allowRasterFunction": true,
 "rasterFunctionInfos": [
  {
   "name": "None",
   "description": "",
   "help": ""
  }
 ],
 "rasterTypeInfos": [
  {
   "name": "Raster Dataset",
   "description": "Supports all ArcGIS Raster Datasets",
   "help": ""
  }
 ],
 "mensurationCapabilities": "Basic",
 "hasHistograms": true,
 "hasColormap": false,
 "hasRasterAttributeTable": false,
 "minScale": 0,
 "maxScale": 0,
 "exportTilesAllowed": false,
 "hasMultidimensions": false,
 "supportsStatistics": false,
 "supportsAdvancedQueries": false,
 "editFieldsInfo": null,
 "ownershipBasedAccessControlForRasters": null,
 "allowComputeTiePoints": false,
 "useStandardizedQueries": true,
 "advancedQueryCapabilities": {
  "useStandardizedQueries": true,
  "supportsStatistics": false,
  "supportsOrderBy": false,
  "supportsDistinct": false,
  "supportsPagination": false
 },
 "spatialReference": {
  "wkid": 26912,
  "latestWkid": 26912
 }
}
