{
 "currentVersion": 10.71,
 "serviceDescription": "Brooks/Brooks_Ortho_2019",
 "name": "Brooks/Brooks_Ortho_2019",
 "description": "",
 "extent": {
  "xmin": -66304.725,
  "ymin": 5600587.95,
  "xmax": -59236.725000000006,
  "ymax": 5606623.5,
  "spatialReference": {
   "wkt": "PROJCS[\"NAD_1983_Alberta_3TM_ref_merid_111_W\",GEOGCS[\"GCS_NAD83_1986\",DATUM[\"D_North_American_1983\",SPHEROID[\"GRS_1980\",6378137.0,298.257222101]],PRIMEM[\"Greenwich\",0.0],UNIT[\"Degree\",0.0174532925199433]],PROJECTION[\"Transverse_Mercator\"],PARAMETER[\"false_easting\",0.0],PARAMETER[\"false_northing\",0.0],PARAMETER[\"central_meridian\",-111.0],PARAMETER[\"scale_factor\",0.9999],PARAMETER[\"latitude_of_origin\",0.0],UNIT[\"Meter\",1.0]]"
  }
 },
 "initialExtent": {
  "xmin": -66304.725,
  "ymin": 5600587.95,
  "xmax": -59236.725000000006,
  "ymax": 5606623.5,
  "spatialReference": {
   "wkt": "PROJCS[\"NAD_1983_Alberta_3TM_ref_merid_111_W\",GEOGCS[\"GCS_NAD83_1986\",DATUM[\"D_North_American_1983\",SPHEROID[\"GRS_1980\",6378137.0,298.257222101]],PRIMEM[\"Greenwich\",0.0],UNIT[\"Degree\",0.0174532925199433]],PROJECTION[\"Transverse_Mercator\"],PARAMETER[\"false_easting\",0.0],PARAMETER[\"false_northing\",0.0],PARAMETER[\"central_meridian\",-111.0],PARAMETER[\"scale_factor\",0.9999],PARAMETER[\"latitude_of_origin\",0.0],UNIT[\"Meter\",1.0]]"
  }
 },
 "fullExtent": {
  "xmin": -66304.725,
  "ymin": 5600587.95,
  "xmax": -59236.725000000006,
  "ymax": 5606623.5,
  "spatialReference": {
   "wkt": "PROJCS[\"NAD_1983_Alberta_3TM_ref_merid_111_W\",GEOGCS[\"GCS_NAD83_1986\",DATUM[\"D_North_American_1983\",SPHEROID[\"GRS_1980\",6378137.0,298.257222101]],PRIMEM[\"Greenwich\",0.0],UNIT[\"Degree\",0.0174532925199433]],PROJECTION[\"Transverse_Mercator\"],PARAMETER[\"false_easting\",0.0],PARAMETER[\"false_northing\",0.0],PARAMETER[\"central_meridian\",-111.0],PARAMETER[\"scale_factor\",0.9999],PARAMETER[\"latitude_of_origin\",0.0],UNIT[\"Meter\",1.0]]"
  }
 },
 "pixelSizeX": 0.075,
 "pixelSizeY": 0.07499999999999768,
 "bandCount": 3,
 "pixelType": "U8",
 "minPixelSize": 0,
 "maxPixelSize": 0,
 "copyrightText": "",
 "serviceDataType": "esriImageServiceDataTypeRGB",
 "minValues": [
  18,
  16,
  0
 ],
 "maxValues": [
  255,
  255,
  255
 ],
 "meanValues": [
  179.40751327072317,
  167.580917381244,
  140.8804954403158
 ],
 "stdvValues": [
  55.85678704946466,
  61.98722920302179,
  79.85752171843144
 ],
 "objectIdField": "",
 "fields": [],
 "capabilities": "Mensuration,Image,Metadata",
 "defaultMosaicMethod": "Center",
 "allowedMosaicMethods": "",
 "sortField": "",
 "sortValue": null,
 "mosaicOperator": "First",
 "defaultCompressionQuality": 75,
 "defaultResamplingMethod": "Bilinear",
 "maxImageHeight": 4100,
 "maxImageWidth": 15000,
 "allowRasterFunction": true,
 "rasterFunctionInfos": [
  {
   "name": "None",
   "description": "",
   "help": ""
  }
 ],
 "rasterTypeInfos": [
  {
   "name": "Raster Dataset",
   "description": "Supports all ArcGIS Raster Datasets",
   "help": ""
  }
 ],
 "mensurationCapabilities": "Basic",
 "hasHistograms": true,
 "hasColormap": false,
 "hasRasterAttributeTable": false,
 "minScale": 0,
 "maxScale": 0,
 "exportTilesAllowed": false,
 "hasMultidimensions": false,
 "supportsStatistics": false,
 "supportsAdvancedQueries": false,
 "editFieldsInfo": null,
 "ownershipBasedAccessControlForRasters": null,
 "allowComputeTiePoints": false,
 "useStandardizedQueries": true,
 "advancedQueryCapabilities": {
  "useStandardizedQueries": true,
  "supportsStatistics": false,
  "supportsOrderBy": false,
  "supportsDistinct": false,
  "supportsPagination": false
 },
 "spatialReference": {
  "wkt": "PROJCS[\"NAD_1983_Alberta_3TM_ref_merid_111_W\",GEOGCS[\"GCS_NAD83_1986\",DATUM[\"D_North_American_1983\",SPHEROID[\"GRS_1980\",6378137.0,298.257222101]],PRIMEM[\"Greenwich\",0.0],UNIT[\"Degree\",0.0174532925199433]],PROJECTION[\"Transverse_Mercator\"],PARAMETER[\"false_easting\",0.0],PARAMETER[\"false_northing\",0.0],PARAMETER[\"central_meridian\",-111.0],PARAMETER[\"scale_factor\",0.9999],PARAMETER[\"latitude_of_origin\",0.0],UNIT[\"Meter\",1.0]]"
 }
}
